Workbook
Name LastRow: LOOKUP(2,1/(Mileage!$D$16:$D$999>0),ROW(Mileage!$D$16:$D$999))

Sheet Mileage
L1: Car
A2: Business Mileage Spreadsheet - 2021 | L2: Van
L3: Bicycle
A5: Company Name: | F5: Vehicle:
A7: Employee Name: | F7: Vehicle Type: | J7: Car
A9: Year Ending: | C9: 44291 | F9: Signed by:
A11: Current rates
A12: Up to 10,000 miles: | C12: =IF($J$7="Car",0.45,IF($J$7="Van",0.45,IF($J$7="Motorcycle",0.24,0.2))) -> 0.45 | F12: Over 10,000 miles: | J12: =IF($J$7="Car",0.25,IF($J$7="Van",0.25,IF($J$7="Motorcycle",0.24,0.2))) -> 0.25
A14: Date (DD/MM/YYYY) | B14: Client/Description | D14: Mileage | G14: Cumulative Mileage | I14: Rate | K14: Amount | L14: Cumulative Amount
G15: 0
G16: =IF(D16>0,D16+G15,"") | I16: =IF(D16>0,(IF(AND(G16<10000,G15<10000),$C$12,IF(AND(G16>10000,G15>10000),$J$12,K16/D16))),"") | K16: =IF(D16>0,IF(AND(G16<10000,G15<10000),D16*$C$12,IF(AND(G16>10000,G15>10000),D16*$J$12,(10000-G15)*$C$12+(D16-(10000-G15))*$J$12)),"") | L16: =IF(D16>0,K16+L15,"")
G17: =IF(D17>0,D17+G16,"") | I17: =IF(D17>0,(IF(AND(G17<10000,G16<10000),$C$12,IF(AND(G17>10000,G16>10000),$J$12,K17/D17))),"") | K17: =IF(D17>0,IF(AND(G17<10000,G16<10000),D17*$C$12,IF(AND(G17>10000,G16>10000),D17*$J$12,(10000-G16)*$C$12+(D17-(10000-G16))*$J$12)),"") | L17: =IF(D17>0,K17+L16,"")
G18: =IF(D18>0,D18+G17,"") | I18: =IF(D18>0,(IF(AND(G18<10000,G17<10000),$C$12,IF(AND(G18>10000,G17>10000),$J$12,K18/D18))),"") | K18: =IF(D18>0,IF(AND(G18<10000,G17<10000),D18*$C$12,IF(AND(G18>10000,G17>10000),D18*$J$12,(10000-G17)*$C$12+(D18-(10000-G17))*$J$12)),"") | L18: =IF(D18>0,K18+L17,"")
G19: =IF(D19>0,D19+G18,"") | I19: =IF(D19>0,(IF(AND(G19<10000,G18<10000),$C$12,IF(AND(G19>10000,G18>10000),$J$12,K19/D19))),"") | K19: =IF(D19>0,IF(AND(G19<10000,G18<10000),D19*$C$12,IF(AND(G19>10000,G18>10000),D19*$J$12,(10000-G18)*$C$12+(D19-(10000-G18))*$J$12)),"") | L19: =IF(D19>0,K19+L18,"")
G20: =IF(D20>0,D20+G19,"") | I20: =IF(D20>0,(IF(AND(G20<10000,G19<10000),$C$12,IF(AND(G20>10000,G19>10000),$J$12,K20/D20))),"") | K20: =IF(D20>0,IF(AND(G20<10000,G19<10000),D20*$C$12,IF(AND(G20>10000,G19>10000),D20*$J$12,(10000-G19)*$C$12+(D20-(10000-G19))*$J$12)),"") | L20: =IF(D20>0,K20+L19,"")
G21: =IF(D21>0,D21+G20,"") | I21: =IF(D21>0,(IF(AND(G21<10000,G20<10000),$C$12,IF(AND(G21>10000,G20>10000),$J$12,K21/D21))),"") | K21: =IF(D21>0,IF(AND(G21<10000,G20<10000),D21*$C$12,IF(AND(G21>10000,G20>10000),D21*$J$12,(10000-G20)*$C$12+(D21-(10000-G20))*$J$12)),"") | L21: =IF(D21>0,K21+L20,"")
G22: =IF(D22>0,D22+G21,"") | I22: =IF(D22>0,(IF(AND(G22<10000,G21<10000),$C$12,IF(AND(G22>10000,G21>10000),$J$12,K22/D22))),"") | K22: =IF(D22>0,IF(AND(G22<10000,G21<10000),D22*$C$12,IF(AND(G22>10000,G21>10000),D22*$J$12,(10000-G21)*$C$12+(D22-(10000-G21))*$J$12)),"") | L22: =IF(D22>0,K22+L21,"")
G23: =IF(D23>0,D23+G22,"") | I23: =IF(D23>0,(IF(AND(G23<10000,G22<10000),$C$12,IF(AND(G23>10000,G22>10000),$J$12,K23/D23))),"") | K23: =IF(D23>0,IF(AND(G23<10000,G22<10000),D23*$C$12,IF(AND(G23>10000,G22>10000),D23*$J$12,(10000-G22)*$C$12+(D23-(10000-G22))*$J$12)),"") | L23: =IF(D23>0,K23+L22,"")
G24: =IF(D24>0,D24+G23,"") | I24: =IF(D24>0,(IF(AND(G24<10000,G23<10000),$C$12,IF(AND(G24>10000,G23>10000),$J$12,K24/D24))),"") | K24: =IF(D24>0,IF(AND(G24<10000,G23<10000),D24*$C$12,IF(AND(G24>10000,G23>10000),D24*$J$12,(10000-G23)*$C$12+(D24-(10000-G23))*$J$12)),"") | L24: =IF(D24>0,K24+L23,"")
G25: =IF(D25>0,D25+G24,"") | I25: =IF(D25>0,(IF(AND(G25<10000,G24<10000),$C$12,IF(AND(G25>10000,G24>10000),$J$12,K25/D25))),"") | K25: =IF(D25>0,IF(AND(G25<10000,G24<10000),D25*$C$12,IF(AND(G25>10000,G24>10000),D25*$J$12,(10000-G24)*$C$12+(D25-(10000-G24))*$J$12)),"") | L25: =IF(D25>0,K25+L24,"")
G26: =IF(D26>0,D26+G25,"") | I26: =IF(D26>0,(IF(AND(G26<10000,G25<10000),$C$12,IF(AND(G26>10000,G25>10000),$J$12,K26/D26))),"") | K26: =IF(D26>0,IF(AND(G26<10000,G25<10000),D26*$C$12,IF(AND(G26>10000,G25>10000),D26*$J$12,(10000-G25)*$C$12+(D26-(10000-G25))*$J$12)),"") | L26: =IF(D26>0,K26+L25,"")
G27: =IF(D27>0,D27+G26,"") | I27: =IF(D27>0,(IF(AND(G27<10000,G26<10000),$C$12,IF(AND(G27>10000,G26>10000),$J$12,K27/D27))),"") | K27: =IF(D27>0,IF(AND(G27<10000,G26<10000),D27*$C$12,IF(AND(G27>10000,G26>10000),D27*$J$12,(10000-G26)*$C$12+(D27-(10000-G26))*$J$12)),"") | L27: =IF(D27>0,K27+L26,"")
... G965: =IF(D965>0,D965+G964,"") | I965: =IF(D965>0,(IF(AND(G965<10000,G964<10000),$C$12,IF(AND(G965>10000,G964>10000),$J$12,K965/D965))),"") | K965: =IF(D965>0,IF(AND(G965<10000,G964<10000),D965*$C$12,IF(AND(G965>10000,G964>10000),D965*$J$12,(10000-G964)*$C$12+(D965-(10000-G964))*$J$12)),"") | L965: =IF(D965>0,K965+L964,"")

Sheet Summary
A2: Business Mileage Spreadsheet - 2021
A5: Company Name: | C5: =IF(Mileage!C5>"",Mileage!C5,"") | F5: Vehicle: | J5: =IF(Mileage!J5>"",Mileage!J5,"")
A7: Employee Name: | C7: =IF(Mileage!C7>"",Mileage!C7,"") | F7: Year Ending: | J7: =IF(Mileage!C9>0,Mileage!C9,"") -> 44291
A10: Month | E10: Mileage | K10: Total
A11: 43927 | E11: =SUMIFS(Mileage!$D$16:$D$965,Mileage!$A$16:$A$965,">="&A11,Mileage!$A$16:$A$965,"<"&A12) -> 0 | K11: =SUMIFS(Mileage!$K$16:$K$965,Mileage!$A$16:$A$965,">="&A11,Mileage!$A$16:$A$965,"<"&A12) -> 0
A12: 43952 | E12: =SUMIFS(Mileage!$D$16:$D$965,Mileage!$A$16:$A$965,">="&A12,Mileage!$A$16:$A$965,"<"&A13) -> 0 | K12: =SUMIFS(Mileage!$K$16:$K$965,Mileage!$A$16:$A$965,">="&A12,Mileage!$A$16:$A$965,"<"&A13) -> 0
A13: 43983 | E13: =SUMIFS(Mileage!$D$16:$D$965,Mileage!$A$16:$A$965,">="&A13,Mileage!$A$16:$A$965,"<"&A14) -> 0 | K13: =SUMIFS(Mileage!$K$16:$K$965,Mileage!$A$16:$A$965,">="&A13,Mileage!$A$16:$A$965,"<"&A14) -> 0
A14: 44013 | E14: =SUMIFS(Mileage!$D$16:$D$965,Mileage!$A$16:$A$965,">="&A14,Mileage!$A$16:$A$965,"<"&A15) -> 0 | K14: =SUMIFS(Mileage!$K$16:$K$965,Mileage!$A$16:$A$965,">="&A14,Mileage!$A$16:$A$965,"<"&A15) -> 0
A15: 44044 | E15: =SUMIFS(Mileage!$D$16:$D$965,Mileage!$A$16:$A$965,">="&A15,Mileage!$A$16:$A$965,"<"&A16) -> 0 | K15: =SUMIFS(Mileage!$K$16:$K$965,Mileage!$A$16:$A$965,">="&A15,Mileage!$A$16:$A$965,"<"&A16) -> 0
A16: 44075 | E16: =SUMIFS(Mileage!$D$16:$D$965,Mileage!$A$16:$A$965,">="&A16,Mileage!$A$16:$A$965,"<"&A17) -> 0 | K16: =SUMIFS(Mileage!$K$16:$K$965,Mileage!$A$16:$A$965,">="&A16,Mileage!$A$16:$A$965,"<"&A17) -> 0
A17: 44105 | E17: =SUMIFS(Mileage!$D$16:$D$965,Mileage!$A$16:$A$965,">="&A17,Mileage!$A$16:$A$965,"<"&A18) -> 0 | K17: =SUMIFS(Mileage!$K$16:$K$965,Mileage!$A$16:$A$965,">="&A17,Mileage!$A$16:$A$965,"<"&A18) -> 0
A18: 44136 | E18: =SUMIFS(Mileage!$D$16:$D$965,Mileage!$A$16:$A$965,">="&A18,Mileage!$A$16:$A$965,"<"&A19) -> 0 | K18: =SUMIFS(Mileage!$K$16:$K$965,Mileage!$A$16:$A$965,">="&A18,Mileage!$A$16:$A$965,"<"&A19) -> 0
A19: 44166 | E19: =SUMIFS(Mileage!$D$16:$D$965,Mileage!$A$16:$A$965,">="&A19,Mileage!$A$16:$A$965,"<"&A20) -> 0 | K19: =SUMIFS(Mileage!$K$16:$K$965,Mileage!$A$16:$A$965,">="&A19,Mileage!$A$16:$A$965,"<"&A20) -> 0
A20: 44197 | E20: =SUMIFS(Mileage!$D$16:$D$965,Mileage!$A$16:$A$965,">="&A20,Mileage!$A$16:$A$965,"<"&A21) -> 0 | K20: =SUMIFS(Mileage!$K$16:$K$965,Mileage!$A$16:$A$965,">="&A20,Mileage!$A$16:$A$965,"<"&A21) -> 0
A21: 44228 | E21: =SUMIFS(Mileage!$D$16:$D$965,Mileage!$A$16:$A$965,">="&A21,Mileage!$A$16:$A$965,"<"&A22) -> 0 | K21: =SUMIFS(Mileage!$K$16:$K$965,Mileage!$A$16:$A$965,">="&A21,Mileage!$A$16:$A$965,"<"&A22) -> 0
A22: 44256 | E22: =SUMIFS(Mileage!$D$16:$D$965,Mileage!$A$16:$A$965,">="&A22,Mileage!$A$16:$A$965,"<"&A23) -> 0 | K22: =SUMIFS(Mileage!$K$16:$K$965,Mileage!$A$16:$A$965,">="&A22,Mileage!$A$16:$A$965,"<"&A23) -> 0
A23: 44287 | E23: =SUMIFS(Mileage!$D$16:$D$965,Mileage!$A$16:$A$965,">="&A23,Mileage!$A$16:$A$965,"<"&A24) -> 0 | K23: =SUMIFS(Mileage!$K$16:$K$965,Mileage!$A$16:$A$965,">="&A23,Mileage!$A$16:$A$965,"<"&A24) -> 0
A24: 43927
E25: =SUM(E11:E24) -> 0 | K25: =SUM(K11:K24) -> 0
